BEGIN:VCALENDAR
VERSION:2.0
PRODID:-//Mackinaw Area Visitors Bureau - ECPv6.15.20//NONSGML v1.0//EN
CALSCALE:GREGORIAN
METHOD:PUBLISH
X-WR-CALNAME:Mackinaw Area Visitors Bureau
X-ORIGINAL-URL:https://mackinawcity.com
X-WR-CALDESC:Events for Mackinaw Area Visitors Bureau
REFRESH-INTERVAL;VALUE=DURATION:PT1H
X-Robots-Tag:noindex
X-PUBLISHED-TTL:PT1H
BEGIN:VTIMEZONE
TZID:America/Detroit
BEGIN:DAYLIGHT
TZOFFSETFROM:-0500
TZOFFSETTO:-0400
TZNAME:EDT
DTSTART:20250309T070000
END:DAYLIGHT
BEGIN:STANDARD
TZOFFSETFROM:-0400
TZOFFSETTO:-0500
TZNAME:EST
DTSTART:20251102T060000
END:STANDARD
BEGIN:DAYLIGHT
TZOFFSETFROM:-0500
TZOFFSETTO:-0400
TZNAME:EDT
DTSTART:20260308T070000
END:DAYLIGHT
BEGIN:STANDARD
TZOFFSETFROM:-0400
TZOFFSETTO:-0500
TZNAME:EST
DTSTART:20261101T060000
END:STANDARD
BEGIN:DAYLIGHT
TZOFFSETFROM:-0500
TZOFFSETTO:-0400
TZNAME:EDT
DTSTART:20270314T070000
END:DAYLIGHT
BEGIN:STANDARD
TZOFFSETFROM:-0400
TZOFFSETTO:-0500
TZNAME:EST
DTSTART:20271107T060000
END:STANDARD
END:VTIMEZONE
BEGIN:VEVENT
DTSTART;TZID=America/Detroit:20260505T090000
DTEND;TZID=America/Detroit:20260505T163000
DTSTAMP:20260424T141138
CREATED:20251119T235957Z
LAST-MODIFIED:20260403T154425Z
UID:10000002-1777971600-1777998600@mackinawcity.com
SUMMARY:Old Mackinac Point Lighthouse Opening Day
DESCRIPTION:The Old Mackinac Point Lighthouse will open for its 2026 season on Tuesday\, May 5\, 2026\, with hours from 9:00 a.m. to 4:30 p.m. \nThe lighthouse is a seasonal attraction and typically operates from early May through early October.
URL:https://mackinawcity.com/event/old-mackinac-point-lighthouse-opening-day/
LOCATION:Mackinac State Historic Parks\, 102 W. Straits Ave.\, Mackinaw City\, MI\, 49701\, United States
CATEGORIES:Area Event
ATTACH;FMTTYPE=image/jpeg:https://mackinawcity.com/wp-content/uploads/Old-Mackinac-Point-Lighthouse.jpg
END:VEVENT
BEGIN:VEVENT
DTSTART;TZID=America/Detroit:20260506T090000
DTEND;TZID=America/Detroit:20260506T170000
DTSTAMP:20260424T141138
CREATED:20251119T233748Z
LAST-MODIFIED:20260105T182542Z
UID:10000001-1778058000-1778086800@mackinawcity.com
SUMMARY:Colonial Michilimackinac Opening Day
DESCRIPTION:Step into Michilimackinac 1776: First Strike\, as Colonial Michilimackinac opens for the 2026 season and we continue our America250 celebration! \nTreasures from the past come to life at this 18th-century fort and fur trading village\, reconstructed based on historic maps and more than 60 years of archaeological excavations. As you walk through Colonial Michilimackinac\, you are stepping back in time to 1776\, as the American Revolution spread. \nHistorical interpreters representing voyageurs\, British soldiers\, and French-Canadian merchant families are stationed throughout the fort to answer your questions and perform demonstrations. The past and present blur into a fascinating and unmatched experience at Colonial Michilimackinac. Watch smoke billow from cannons\, mortars and muskets and see residents prepare food and tend the gardens. At one of the longest ongoing archaeological excavations in North America\, archaeologists are on site throughout the summer\, pulling history from the soil\, bit by bit.
URL:https://mackinawcity.com/event/colonial-michilimackinac-opening-day/
LOCATION:Mackinac State Historic Parks\, 102 W. Straits Ave.\, Mackinaw City\, MI\, 49701\, United States
CATEGORIES:Area Event
ATTACH;FMTTYPE=image/jpeg:https://mackinawcity.com/wp-content/uploads/Soldiers-Fire-Rifles.jpg
END:VEVENT
BEGIN:VEVENT
DTSTART;TZID=America/Detroit:20260508T000000
DTEND;TZID=America/Detroit:20260508T000000
DTSTAMP:20260424T141138
CREATED:20260401T150859Z
LAST-MODIFIED:20260402T185420Z
UID:10000035-1778198400-1778198400@mackinawcity.com
SUMMARY:Jeep the Mac
DESCRIPTION: This event features a Mackinac Bridge parade\, scenic trail rides\, and vendor displays.  Must register in advance in St. Ignace.
URL:https://mackinawcity.com/event/jeep-to-mac-event/
LOCATION:St. Ignace\, MI
CATEGORIES:Area Event,Featured
ATTACH;FMTTYPE=image/webp:https://mackinawcity.com/wp-content/uploads/Jeep-the-Joop-1.webp
END:VEVENT
BEGIN:VEVENT
DTSTART;VALUE=DATE:20260515
DTEND;VALUE=DATE:20260518
DTSTAMP:20260424T141138
CREATED:20260401T152042Z
LAST-MODIFIED:20260402T190722Z
UID:10000037-1778803200-1779062399@mackinawcity.com
SUMMARY:Zoo De Mack bike ride
DESCRIPTION:A weekend of music\, scenic bike rides\, sunshine and the Mighty Mac Bridge.  Starts at the Highlands\, and ends in Mackinaw City.
URL:https://mackinawcity.com/event/zoo-de-mac-bike-ride/
LOCATION:Harbor Springs to Mackinaw City
CATEGORIES:Area Event,Featured
ATTACH;FMTTYPE=image/jpeg:https://mackinawcity.com/wp-content/uploads/zoodemac.jpg
END:VEVENT
BEGIN:VEVENT
DTSTART;TZID=America/Detroit:20260523T130000
DTEND;TZID=America/Detroit:20260523T130000
DTSTAMP:20260424T141138
CREATED:20260401T152328Z
LAST-MODIFIED:20260402T201827Z
UID:10000054-1779541200-1779541200@mackinawcity.com
SUMMARY:Mackinaw City's Grand Memorial Day Parade
DESCRIPTION:The Mackinaw City Memorial Day Parade is the largest in Michigan\, taking place on Saturday \nof Memorial Weekend\, featuring various activities and honoring veterans.
URL:https://mackinawcity.com/event/memorial-day-parade/
LOCATION:S. Huron and Central Ave\, Mackinaw City\, MI
CATEGORIES:Area Event,Featured
ATTACH;FMTTYPE=image/webp:https://mackinawcity.com/wp-content/uploads/parade.webp
END:VEVENT
BEGIN:VEVENT
DTSTART;TZID=America/Detroit:20260523T150000
DTEND;TZID=America/Detroit:20260523T160000
DTSTAMP:20260424T141138
CREATED:20260401T194338Z
LAST-MODIFIED:20260403T151917Z
UID:10000031-1779548400-1779552000@mackinawcity.com
SUMMARY:Fort Michilimackinac Historical Reenactment Pageant
DESCRIPTION:The longest-running free Memorial Day historical program in the United States unfolds over three captivating days\, featuring more than 400 dedicated cast members who bring history vividly to life. This immersive pageant reenacts the dramatic 1763 Battle of Fort Michilimackinac\, where French\, British\, and Native American forces clashed. Participants don authentic period costumes\, offering an engaging glimpse into the daily lives and customs of 1760s residents. A standout event of the weekend is the Memorial Day parade\, a vibrant procession showcasing over 100 bands\, performances\, and floats\, creating a powerful celebration of heritage and remembrance.
URL:https://mackinawcity.com/event/fort-michilimackinac-historical-reenactment-pageant-2/
LOCATION:312 South Huron Avenue\, Mackinaw City\, Michigan 49701\, United States
ATTACH;FMTTYPE=image/webp:https://mackinawcity.com/wp-content/uploads/reenactment.webp
END:VEVENT
BEGIN:VEVENT
DTSTART;TZID=America/Detroit:20260523T220000
DTEND;TZID=America/Detroit:20260523T220000
DTSTAMP:20260424T141138
CREATED:20260114T205112Z
LAST-MODIFIED:20260402T154719Z
UID:10000014-1779573600-1779573600@mackinawcity.com
SUMMARY:Saturday Night Fireworks
DESCRIPTION:Celebrate summer with our weekly spectacular display! Beginning at 10pm every Saturday\, Memorial Day weekend through Labor Day weekend (weather permitting).
URL:https://mackinawcity.com/event/saturday-night-fireworks/2026-05-23/
LOCATION:Conkling Heritage Park\, 335 S. Huron St.\, Mackinaw City\, MI\, 49701\, United States
CATEGORIES:Area Event
ATTACH;FMTTYPE=image/webp:https://mackinawcity.com/wp-content/uploads/483512066_1055472719958308_4401846349626120440_n.webp
END:VEVENT
BEGIN:VEVENT
DTSTART;TZID=America/Detroit:20260524T140000
DTEND;TZID=America/Detroit:20260524T150000
DTSTAMP:20260424T141138
CREATED:20260403T152045Z
LAST-MODIFIED:20260403T152047Z
UID:10000032-1779631200-1779634800@mackinawcity.com
SUMMARY:Fort Michilimackinac Historical Reenactment Pageant
DESCRIPTION:The longest-running free Memorial Day historical program in the United States unfolds over three captivating days\, featuring more than 400 dedicated cast members who bring history vividly to life. This immersive pageant reenacts the dramatic 1763 Battle of Fort Michilimackinac\, where French\, British\, and Native American forces clashed. Participants don authentic period costumes\, offering an engaging glimpse into the daily lives and customs of 1760s residents. A standout event of the weekend is the Memorial Day parade\, a vibrant procession showcasing over 100 bands\, performances\, and floats\, creating a powerful celebration of heritage and remembrance.
URL:https://mackinawcity.com/event/fort-michilimackinac-historical-reenactment-pageant-3/
LOCATION:312 South Huron Avenue\, Mackinaw City\, Michigan 49701\, United States
ATTACH;FMTTYPE=image/webp:https://mackinawcity.com/wp-content/uploads/memorial-day.webp
END:VEVENT
BEGIN:VEVENT
DTSTART;TZID=America/Detroit:20260525T140000
DTEND;TZID=America/Detroit:20260525T150000
DTSTAMP:20260424T141138
CREATED:20260403T152154Z
LAST-MODIFIED:20260403T154832Z
UID:10000033-1779717600-1779721200@mackinawcity.com
SUMMARY:Fort Michilimackinac Historical Reenactment Pageant
DESCRIPTION:The longest-running free Memorial Day historical program in the United States unfolds over three captivating days\, featuring more than 400 dedicated cast members who bring history vividly to life. This immersive pageant reenacts the dramatic 1763 Battle of Fort Michilimackinac\, where French\, British\, and Native American forces clashed. Participants don authentic period costumes\, offering an engaging glimpse into the daily lives and customs of 1760s residents. A standout event of the weekend is the Memorial Day parade\, a vibrant procession showcasing over 100 bands\, performances\, and floats\, creating a powerful celebration of heritage and remembrance.
URL:https://mackinawcity.com/event/fort-michilimackinac-historical-reenactment-pageant-4/
LOCATION:312 South Huron Avenue\, Mackinaw City\, Michigan 49701\, United States
ATTACH;FMTTYPE=image/webp:https://mackinawcity.com/wp-content/uploads/fort-scaled-1.webp
END:VEVENT
BEGIN:VEVENT
DTSTART;TZID=America/Detroit:20260530T220000
DTEND;TZID=America/Detroit:20260530T220000
DTSTAMP:20260424T141138
CREATED:20260114T205112Z
LAST-MODIFIED:20260402T154719Z
UID:10000015-1780178400-1780178400@mackinawcity.com
SUMMARY:Saturday Night Fireworks
DESCRIPTION:Celebrate summer with our weekly spectacular display! Beginning at 10pm every Saturday\, Memorial Day weekend through Labor Day weekend (weather permitting).
URL:https://mackinawcity.com/event/saturday-night-fireworks/2026-05-30/
LOCATION:Conkling Heritage Park\, 335 S. Huron St.\, Mackinaw City\, MI\, 49701\, United States
CATEGORIES:Area Event
ATTACH;FMTTYPE=image/webp:https://mackinawcity.com/wp-content/uploads/483512066_1055472719958308_4401846349626120440_n.webp
END:VEVENT
BEGIN:VEVENT
DTSTART;VALUE=DATE:20260605
DTEND;VALUE=DATE:20260608
DTSTAMP:20260424T141138
CREATED:20260104T002047Z
LAST-MODIFIED:20260403T162208Z
UID:10000008-1780617600-1780876799@mackinawcity.com
SUMMARY:Mackinaw Steel Car Show
DESCRIPTION:FIRST ANNUAL MACKINAW STEEL CAR SHOW: A JOURNEY THROUGH AUTOMOTIVE HISTORY \nCalling all car enthusiasts! Don’t miss this first annual showcase of vehicles spanning years of automotive design -from pre-war to 1973 classics and 1974 to present day show cars. \nWhat to Expect: \n\nA curated display of vehicles\nLive music\, vendors\, and nostalgic vibes\nSwap meet & vintage parts market\nJudged competition for multiple categories\nFood vendors and beer tents\nFree admission for spectators\n\nMackinaw Steel Tentative Schedule of Events \nMackinaw Steel Car Registration \n 
URL:https://mackinawcity.com/event/mackinaw-steel-car-show/
LOCATION:Mackinaw Crossings\, 248 S Huron Ave\, Mackinaw City\, 49701\, United States
CATEGORIES:Area Event,Featured
ATTACH;FMTTYPE=image/webp:https://mackinawcity.com/wp-content/uploads/Vintage-Cars.webp
END:VEVENT
BEGIN:VEVENT
DTSTART;VALUE=DATE:20260606
DTEND;VALUE=DATE:20260615
DTSTAMP:20260424T141138
CREATED:20260401T152800Z
LAST-MODIFIED:20260402T172217Z
UID:10000038-1780704000-1781481599@mackinawcity.com
SUMMARY:Lilac Festival
DESCRIPTION:The Mackinac Island Lilac Festival is the largest and most historic festival on Mackinac Island. \nIt’s 10 days celebrating the lilacs and their uniqueness and history to Mackinac Island.
URL:https://mackinawcity.com/event/lilac-festival/
LOCATION:Mackinac Island\, MI
CATEGORIES:Area Event
ATTACH;FMTTYPE=image/webp:https://mackinawcity.com/wp-content/uploads/Lilac-Festival.webp
END:VEVENT
BEGIN:VEVENT
DTSTART;TZID=America/Detroit:20260606T220000
DTEND;TZID=America/Detroit:20260606T220000
DTSTAMP:20260424T141138
CREATED:20260114T205112Z
LAST-MODIFIED:20260402T154719Z
UID:10000016-1780783200-1780783200@mackinawcity.com
SUMMARY:Saturday Night Fireworks
DESCRIPTION:Celebrate summer with our weekly spectacular display! Beginning at 10pm every Saturday\, Memorial Day weekend through Labor Day weekend (weather permitting).
URL:https://mackinawcity.com/event/saturday-night-fireworks/2026-06-06/
LOCATION:Conkling Heritage Park\, 335 S. Huron St.\, Mackinaw City\, MI\, 49701\, United States
CATEGORIES:Area Event
ATTACH;FMTTYPE=image/webp:https://mackinawcity.com/wp-content/uploads/483512066_1055472719958308_4401846349626120440_n.webp
END:VEVENT
BEGIN:VEVENT
DTSTART;TZID=America/Detroit:20260613T220000
DTEND;TZID=America/Detroit:20260613T220000
DTSTAMP:20260424T141138
CREATED:20260114T205112Z
LAST-MODIFIED:20260402T154719Z
UID:10000017-1781388000-1781388000@mackinawcity.com
SUMMARY:Saturday Night Fireworks
DESCRIPTION:Celebrate summer with our weekly spectacular display! Beginning at 10pm every Saturday\, Memorial Day weekend through Labor Day weekend (weather permitting).
URL:https://mackinawcity.com/event/saturday-night-fireworks/2026-06-13/
LOCATION:Conkling Heritage Park\, 335 S. Huron St.\, Mackinaw City\, MI\, 49701\, United States
CATEGORIES:Area Event
ATTACH;FMTTYPE=image/webp:https://mackinawcity.com/wp-content/uploads/483512066_1055472719958308_4401846349626120440_n.webp
END:VEVENT
BEGIN:VEVENT
DTSTART;TZID=America/Detroit:20260620T220000
DTEND;TZID=America/Detroit:20260620T220000
DTSTAMP:20260424T141138
CREATED:20260114T205112Z
LAST-MODIFIED:20260402T154719Z
UID:10000018-1781992800-1781992800@mackinawcity.com
SUMMARY:Saturday Night Fireworks
DESCRIPTION:Celebrate summer with our weekly spectacular display! Beginning at 10pm every Saturday\, Memorial Day weekend through Labor Day weekend (weather permitting).
URL:https://mackinawcity.com/event/saturday-night-fireworks/2026-06-20/
LOCATION:Conkling Heritage Park\, 335 S. Huron St.\, Mackinaw City\, MI\, 49701\, United States
CATEGORIES:Area Event
ATTACH;FMTTYPE=image/webp:https://mackinawcity.com/wp-content/uploads/483512066_1055472719958308_4401846349626120440_n.webp
END:VEVENT
BEGIN:VEVENT
DTSTART;VALUE=DATE:20260621
DTEND;VALUE=DATE:20260705
DTSTAMP:20260424T141138
CREATED:20260325T200425Z
LAST-MODIFIED:20260403T152717Z
UID:10000034-1782000000-1783209599@mackinawcity.com
SUMMARY:Icebreaker Mackinaw Maritime Museum 20th Celebration
DESCRIPTION:The USCGC MACKINAW (WAGB-83) served as the primary heavy icebreaker on the Great Lakes for 62 years\, establishing a legacy of service crucial to American industry and commerce. Her story is one of wartime necessity\, technological innovation\, and six decades of duty. Hail the Queen of the Great Lakes!
URL:https://mackinawcity.com/event/icebreaker-mackinaw-maritime-museum-20th-celebration/
LOCATION:Icebreaker Mackinaw Maritime Museum\, 131 S. Huron\, Mackinaw City\, 49701\, United States
CATEGORIES:Area Event
ATTACH;FMTTYPE=image/webp:https://mackinawcity.com/wp-content/uploads/ice-cutter.webp
END:VEVENT
BEGIN:VEVENT
DTSTART;TZID=America/Detroit:20260625T000000
DTEND;TZID=America/Detroit:20260628T000000
DTSTAMP:20260424T141138
CREATED:20260401T153102Z
LAST-MODIFIED:20260403T152905Z
UID:10000039-1782345600-1782604800@mackinawcity.com
SUMMARY:St Ignace Car Show
DESCRIPTION:One of the largest all-make\, all-model shows in the country takes place just across the Mackinac Bridge in St. Ignace. \nHundreds of antique\, custom\, and celebrity automobiles take part in this internationally acclaimed event.
URL:https://mackinawcity.com/event/st-ignace-car-show/
LOCATION:St Ignace\, MI
CATEGORIES:Area Event
ATTACH;FMTTYPE=image/jpeg:https://mackinawcity.com/wp-content/uploads/Car-Show.jpg
END:VEVENT
BEGIN:VEVENT
DTSTART;VALUE=DATE:20260627
DTEND;VALUE=DATE:20260629
DTSTAMP:20260424T141138
CREATED:20260105T180913Z
LAST-MODIFIED:20260402T194820Z
UID:10000006-1782518400-1782691199@mackinawcity.com
SUMMARY:Mackinaw City Arts & Crafts Show
DESCRIPTION:Located in Conkling Heritage Park on the scenic shores of the Straits. \nSaturday 10am to 6pm\nSunday  10am to 3pm \nThe weekend will feature various booths with handcrafted ware from many artists from around the state.  Exhibits to include Paintings\, Woodwork\, Hand-Crafted jewelry\, Hand-Designed Clothing\, Self Published Books\, Nature Photography\, Gourmet Dips and Salsa\, Seasonal Décor and much more! \nTop off the fun on Saturday night with our weekly spectacular fireworks show at 10pm located on the shores of the Straits. \nAll ages welcome. Free to attend. \nVendor Booth Registration
URL:https://mackinawcity.com/event/mackinaw-city-arts-crafts-show-2/
LOCATION:Conkling Heritage Park\, 335 S. Huron St.\, Mackinaw City\, MI\, 49701\, United States
CATEGORIES:Area Event,Featured
ATTACH;FMTTYPE=image/webp:https://mackinawcity.com/wp-content/uploads/Arts-and-Crafts-Show.webp
END:VEVENT
BEGIN:VEVENT
DTSTART;TZID=America/Detroit:20260627T220000
DTEND;TZID=America/Detroit:20260627T220000
DTSTAMP:20260424T141138
CREATED:20260114T205112Z
LAST-MODIFIED:20260402T154719Z
UID:10000019-1782597600-1782597600@mackinawcity.com
SUMMARY:Saturday Night Fireworks
DESCRIPTION:Celebrate summer with our weekly spectacular display! Beginning at 10pm every Saturday\, Memorial Day weekend through Labor Day weekend (weather permitting).
URL:https://mackinawcity.com/event/saturday-night-fireworks/2026-06-27/
LOCATION:Conkling Heritage Park\, 335 S. Huron St.\, Mackinaw City\, MI\, 49701\, United States
CATEGORIES:Area Event
ATTACH;FMTTYPE=image/webp:https://mackinawcity.com/wp-content/uploads/483512066_1055472719958308_4401846349626120440_n.webp
END:VEVENT
BEGIN:VEVENT
DTSTART;TZID=America/Detroit:20260703T210000
DTEND;TZID=America/Detroit:20260703T210000
DTSTAMP:20260424T141138
CREATED:20260401T153726Z
LAST-MODIFIED:20260402T195723Z
UID:10000053-1783112400-1783112400@mackinawcity.com
SUMMARY:Fort Michilimackinac Fire at Night
DESCRIPTION:See the firepower and the resulting glow of the Fort Michilimackinac weapons under the cover of darkness. \nTicket to Fort Michilimackinac required.
URL:https://mackinawcity.com/event/fort-michilimackinac-fire-at-night/
LOCATION:Colonial Michilimackinac\, 526 N Huron Ave\, Mackinaw City\, MI\, United States
CATEGORIES:Area Event,Featured
ATTACH;FMTTYPE=image/webp:https://mackinawcity.com/wp-content/uploads/Event-Fire-at-Night-crop-1920x1320-1.webp
END:VEVENT
BEGIN:VEVENT
DTSTART;TZID=America/Detroit:20260704T220000
DTEND;TZID=America/Detroit:20260704T230000
DTSTAMP:20260424T141138
CREATED:20260402T153831Z
LAST-MODIFIED:20260403T153029Z
UID:10000055-1783202400-1783206000@mackinawcity.com
SUMMARY:July Fourth Fireworks
DESCRIPTION:Celebrate history in the making as we light up the sky for America’s 250th Anniversary! \nJoin us for a spectacular\, large-scale fireworks show that will honor this once-in-a-generation milestone. \nSet against the iconic backdrop of Mackinaw City\, this is more than \na fireworks display—it’s a celebration of freedom\, legacy\, and the spirit of our nation. You won’t want to miss it. \nWeather permitting.
URL:https://mackinawcity.com/event/july-fourth-fireworks/
LOCATION:Conkling Heritage Park\, 335 S. Huron St.\, Mackinaw City\, MI\, 49701\, United States
ATTACH;FMTTYPE=image/webp:https://mackinawcity.com/wp-content/uploads/fireworks-bridge.webp
END:VEVENT
BEGIN:VEVENT
DTSTART;TZID=America/Detroit:20260710T000000
DTEND;TZID=America/Detroit:20260710T000000
DTSTAMP:20260424T141138
CREATED:20260401T153913Z
LAST-MODIFIED:20260402T191633Z
UID:10000040-1783641600-1783641600@mackinawcity.com
SUMMARY:117th Annual Chicago to Mackinac Boat Race
DESCRIPTION:An annual sailing event that is 333 miles long and is known for its challenging conditions and competitive spirit. \nBoats usually start arriving Monday morning.
URL:https://mackinawcity.com/event/117th-annual-chicago-to-mackinaw-boat-race/
LOCATION:Chicago to Mackinac Island
CATEGORIES:Area Event
ATTACH;FMTTYPE=image/webp:https://mackinawcity.com/wp-content/uploads/chicagomac.webp
END:VEVENT
BEGIN:VEVENT
DTSTART;TZID=America/Detroit:20260711T220000
DTEND;TZID=America/Detroit:20260711T220000
DTSTAMP:20260424T141138
CREATED:20260114T205112Z
LAST-MODIFIED:20260402T154719Z
UID:10000021-1783807200-1783807200@mackinawcity.com
SUMMARY:Saturday Night Fireworks
DESCRIPTION:Celebrate summer with our weekly spectacular display! Beginning at 10pm every Saturday\, Memorial Day weekend through Labor Day weekend (weather permitting).
URL:https://mackinawcity.com/event/saturday-night-fireworks/2026-07-11/
LOCATION:Conkling Heritage Park\, 335 S. Huron St.\, Mackinaw City\, MI\, 49701\, United States
CATEGORIES:Area Event
ATTACH;FMTTYPE=image/webp:https://mackinawcity.com/wp-content/uploads/483512066_1055472719958308_4401846349626120440_n.webp
END:VEVENT
BEGIN:VEVENT
DTSTART;VALUE=DATE:20260718
DTEND;VALUE=DATE:20260719
DTSTAMP:20260424T141138
CREATED:20260103T192018Z
LAST-MODIFIED:20260403T151409Z
UID:10000005-1784332800-1784419199@mackinawcity.com
SUMMARY:13th Annual Mustang Stampede
DESCRIPTION:Celebrate the Ford Mustang-an enduring symbol of American automotive heritage since 1964. Join us in Mackinaw Crossings-just steps away from picturesque downtown Mackinaw City for a family fun fueled day of classic Mustang excitement\, featuring the annual Mustang car show and the Mustang Stampede Parade across the Mighty Mac.  Wrap up the celebration with a spectacular fireworks display over the lake at 10:00 PM. \nAll ages welcome. Free to attend. \nMustang Stampede Registration \n 
URL:https://mackinawcity.com/event/13th-annual-mustang-stampede/
LOCATION:Mackinaw Crossings\, 248 S Huron Ave\, Mackinaw City\, 49701\, United States
CATEGORIES:Area Event,Featured
ATTACH;FMTTYPE=image/webp:https://mackinawcity.com/wp-content/uploads/A-Vintage-Ford-Mustang.webp
END:VEVENT
BEGIN:VEVENT
DTSTART;TZID=America/Detroit:20260718T000000
DTEND;TZID=America/Detroit:20260720T000000
DTSTAMP:20260424T141138
CREATED:20260401T154613Z
LAST-MODIFIED:20260403T153224Z
UID:10000041-1784332800-1784505600@mackinawcity.com
SUMMARY:Port Huron to Mackinac Boat Race
DESCRIPTION:Skippers may choose to race north on Lake Huron from Port Huron\, race the 235-mile Shore Line Course up the \n Michigan coastline or the 290-mile Southampton Course\, which directs sailors toward Southampton Ontario\, \n and then to the finish line at Mackinac Island. The race is viewable from Mackinaw City.  The fastest boats usually \nfinish Sunday night.
URL:https://mackinawcity.com/event/port-huron-to-mackinac-boat-race/
LOCATION:Port Huron to Mackinac Island
CATEGORIES:Area Event,Featured
ATTACH;FMTTYPE=image/webp:https://mackinawcity.com/wp-content/uploads/porthuron.webp
END:VEVENT
BEGIN:VEVENT
DTSTART;TZID=America/Detroit:20260718T220000
DTEND;TZID=America/Detroit:20260718T220000
DTSTAMP:20260424T141138
CREATED:20260114T205112Z
LAST-MODIFIED:20260402T154719Z
UID:10000022-1784412000-1784412000@mackinawcity.com
SUMMARY:Saturday Night Fireworks
DESCRIPTION:Celebrate summer with our weekly spectacular display! Beginning at 10pm every Saturday\, Memorial Day weekend through Labor Day weekend (weather permitting).
URL:https://mackinawcity.com/event/saturday-night-fireworks/2026-07-18/
LOCATION:Conkling Heritage Park\, 335 S. Huron St.\, Mackinaw City\, MI\, 49701\, United States
CATEGORIES:Area Event
ATTACH;FMTTYPE=image/webp:https://mackinawcity.com/wp-content/uploads/483512066_1055472719958308_4401846349626120440_n.webp
END:VEVENT
BEGIN:VEVENT
DTSTART;VALUE=DATE:20260725
DTEND;VALUE=DATE:20260726
DTSTAMP:20260424T141138
CREATED:20260401T154740Z
LAST-MODIFIED:20260403T153330Z
UID:10000042-1784937600-1785023999@mackinawcity.com
SUMMARY:Annual Heritage Village Festival
DESCRIPTION:Step back in time to the years 1880–1917 at Heritage Village’s annual Historic Festival. This free \nfamily‑friendly event sprawls across 43 acres of woodland trails and vintage buildings\, \nwhere costumed docents reenact daily life on the North Woods frontier.
URL:https://mackinawcity.com/event/annual-heritage-village-festival/
LOCATION:Mackinaw Area Heritage Village\, 1425 W Central Ave\, Mackinaw City\, 49701\, United States
CATEGORIES:Area Event,Featured
ATTACH;FMTTYPE=image/webp:https://mackinawcity.com/wp-content/uploads/heritage-village-1.webp
END:VEVENT
BEGIN:VEVENT
DTSTART;TZID=America/Detroit:20260725T220000
DTEND;TZID=America/Detroit:20260725T220000
DTSTAMP:20260424T141138
CREATED:20260114T205112Z
LAST-MODIFIED:20260402T154719Z
UID:10000023-1785016800-1785016800@mackinawcity.com
SUMMARY:Saturday Night Fireworks
DESCRIPTION:Celebrate summer with our weekly spectacular display! Beginning at 10pm every Saturday\, Memorial Day weekend through Labor Day weekend (weather permitting).
URL:https://mackinawcity.com/event/saturday-night-fireworks/2026-07-25/
LOCATION:Conkling Heritage Park\, 335 S. Huron St.\, Mackinaw City\, MI\, 49701\, United States
CATEGORIES:Area Event
ATTACH;FMTTYPE=image/webp:https://mackinawcity.com/wp-content/uploads/483512066_1055472719958308_4401846349626120440_n.webp
END:VEVENT
BEGIN:VEVENT
DTSTART;TZID=America/Detroit:20260801T220000
DTEND;TZID=America/Detroit:20260801T220000
DTSTAMP:20260424T141138
CREATED:20260114T205112Z
LAST-MODIFIED:20260402T154719Z
UID:10000024-1785621600-1785621600@mackinawcity.com
SUMMARY:Saturday Night Fireworks
DESCRIPTION:Celebrate summer with our weekly spectacular display! Beginning at 10pm every Saturday\, Memorial Day weekend through Labor Day weekend (weather permitting).
URL:https://mackinawcity.com/event/saturday-night-fireworks/2026-08-01/
LOCATION:Conkling Heritage Park\, 335 S. Huron St.\, Mackinaw City\, MI\, 49701\, United States
CATEGORIES:Area Event
ATTACH;FMTTYPE=image/webp:https://mackinawcity.com/wp-content/uploads/483512066_1055472719958308_4401846349626120440_n.webp
END:VEVENT
BEGIN:VEVENT
DTSTART;TZID=America/Detroit:20260807T000000
DTEND;TZID=America/Detroit:20260809T000000
DTSTAMP:20260424T141138
CREATED:20260401T154943Z
LAST-MODIFIED:20260403T153628Z
UID:10000043-1786060800-1786233600@mackinawcity.com
SUMMARY:International Ironworkers Festival
DESCRIPTION:The International Ironworker Festival is an annual event held each summer in Mackinaw City. \nIt attracts Ironworkers from across the United States and Canada to compete in friendly \ncompetition\, including knot tying\, rod tying\, rivet tosses and column climbs. \nIt is open to the General Public\, although only Ironworkers and Retirees can compete in the skilled events.
URL:https://mackinawcity.com/event/ironworkers-festival/
LOCATION:Mackinaw City High School\, 609 W. Central Ave\, Mackinaw City\, United States
CATEGORIES:Area Event,Featured
ATTACH;FMTTYPE=image/webp:https://mackinawcity.com/wp-content/uploads/ironworker.webp
END:VEVENT
END:VCALENDAR