BEGIN:VCALENDAR
VERSION:2.0
PRODID:-//Mackinaw Area Visitors Bureau - ECPv6.15.20//NONSGML v1.0//EN
CALSCALE:GREGORIAN
METHOD:PUBLISH
X-WR-CALNAME:Mackinaw Area Visitors Bureau
X-ORIGINAL-URL:https://mackinawcity.com
X-WR-CALDESC:Events for Mackinaw Area Visitors Bureau
REFRESH-INTERVAL;VALUE=DURATION:PT1H
X-Robots-Tag:noindex
X-PUBLISHED-TTL:PT1H
BEGIN:VTIMEZONE
TZID:America/Detroit
BEGIN:DAYLIGHT
TZOFFSETFROM:-0500
TZOFFSETTO:-0400
TZNAME:EDT
DTSTART:20250309T070000
END:DAYLIGHT
BEGIN:STANDARD
TZOFFSETFROM:-0400
TZOFFSETTO:-0500
TZNAME:EST
DTSTART:20251102T060000
END:STANDARD
BEGIN:DAYLIGHT
TZOFFSETFROM:-0500
TZOFFSETTO:-0400
TZNAME:EDT
DTSTART:20260308T070000
END:DAYLIGHT
BEGIN:STANDARD
TZOFFSETFROM:-0400
TZOFFSETTO:-0500
TZNAME:EST
DTSTART:20261101T060000
END:STANDARD
BEGIN:DAYLIGHT
TZOFFSETFROM:-0500
TZOFFSETTO:-0400
TZNAME:EDT
DTSTART:20270314T070000
END:DAYLIGHT
BEGIN:STANDARD
TZOFFSETFROM:-0400
TZOFFSETTO:-0500
TZNAME:EST
DTSTART:20271107T060000
END:STANDARD
END:VTIMEZONE
BEGIN:VEVENT
DTSTART;TZID=America/Detroit:20260523T220000
DTEND;TZID=America/Detroit:20260523T220000
DTSTAMP:20260424T172753
CREATED:20260114T205112Z
LAST-MODIFIED:20260402T154719Z
UID:10000014-1779573600-1779573600@mackinawcity.com
SUMMARY:Saturday Night Fireworks
DESCRIPTION:Celebrate summer with our weekly spectacular display! Beginning at 10pm every Saturday\, Memorial Day weekend through Labor Day weekend (weather permitting).
URL:https://mackinawcity.com/event/saturday-night-fireworks/2026-05-23/
LOCATION:Conkling Heritage Park\, 335 S. Huron St.\, Mackinaw City\, MI\, 49701\, United States
CATEGORIES:Area Event
ATTACH;FMTTYPE=image/webp:https://mackinawcity.com/wp-content/uploads/483512066_1055472719958308_4401846349626120440_n.webp
END:VEVENT
BEGIN:VEVENT
DTSTART;TZID=America/Detroit:20260530T220000
DTEND;TZID=America/Detroit:20260530T220000
DTSTAMP:20260424T172753
CREATED:20260114T205112Z
LAST-MODIFIED:20260402T154719Z
UID:10000015-1780178400-1780178400@mackinawcity.com
SUMMARY:Saturday Night Fireworks
DESCRIPTION:Celebrate summer with our weekly spectacular display! Beginning at 10pm every Saturday\, Memorial Day weekend through Labor Day weekend (weather permitting).
URL:https://mackinawcity.com/event/saturday-night-fireworks/2026-05-30/
LOCATION:Conkling Heritage Park\, 335 S. Huron St.\, Mackinaw City\, MI\, 49701\, United States
CATEGORIES:Area Event
ATTACH;FMTTYPE=image/webp:https://mackinawcity.com/wp-content/uploads/483512066_1055472719958308_4401846349626120440_n.webp
END:VEVENT
BEGIN:VEVENT
DTSTART;TZID=America/Detroit:20260606T220000
DTEND;TZID=America/Detroit:20260606T220000
DTSTAMP:20260424T172753
CREATED:20260114T205112Z
LAST-MODIFIED:20260402T154719Z
UID:10000016-1780783200-1780783200@mackinawcity.com
SUMMARY:Saturday Night Fireworks
DESCRIPTION:Celebrate summer with our weekly spectacular display! Beginning at 10pm every Saturday\, Memorial Day weekend through Labor Day weekend (weather permitting).
URL:https://mackinawcity.com/event/saturday-night-fireworks/2026-06-06/
LOCATION:Conkling Heritage Park\, 335 S. Huron St.\, Mackinaw City\, MI\, 49701\, United States
CATEGORIES:Area Event
ATTACH;FMTTYPE=image/webp:https://mackinawcity.com/wp-content/uploads/483512066_1055472719958308_4401846349626120440_n.webp
END:VEVENT
BEGIN:VEVENT
DTSTART;TZID=America/Detroit:20260613T220000
DTEND;TZID=America/Detroit:20260613T220000
DTSTAMP:20260424T172753
CREATED:20260114T205112Z
LAST-MODIFIED:20260402T154719Z
UID:10000017-1781388000-1781388000@mackinawcity.com
SUMMARY:Saturday Night Fireworks
DESCRIPTION:Celebrate summer with our weekly spectacular display! Beginning at 10pm every Saturday\, Memorial Day weekend through Labor Day weekend (weather permitting).
URL:https://mackinawcity.com/event/saturday-night-fireworks/2026-06-13/
LOCATION:Conkling Heritage Park\, 335 S. Huron St.\, Mackinaw City\, MI\, 49701\, United States
CATEGORIES:Area Event
ATTACH;FMTTYPE=image/webp:https://mackinawcity.com/wp-content/uploads/483512066_1055472719958308_4401846349626120440_n.webp
END:VEVENT
BEGIN:VEVENT
DTSTART;TZID=America/Detroit:20260620T220000
DTEND;TZID=America/Detroit:20260620T220000
DTSTAMP:20260424T172753
CREATED:20260114T205112Z
LAST-MODIFIED:20260402T154719Z
UID:10000018-1781992800-1781992800@mackinawcity.com
SUMMARY:Saturday Night Fireworks
DESCRIPTION:Celebrate summer with our weekly spectacular display! Beginning at 10pm every Saturday\, Memorial Day weekend through Labor Day weekend (weather permitting).
URL:https://mackinawcity.com/event/saturday-night-fireworks/2026-06-20/
LOCATION:Conkling Heritage Park\, 335 S. Huron St.\, Mackinaw City\, MI\, 49701\, United States
CATEGORIES:Area Event
ATTACH;FMTTYPE=image/webp:https://mackinawcity.com/wp-content/uploads/483512066_1055472719958308_4401846349626120440_n.webp
END:VEVENT
BEGIN:VEVENT
DTSTART;TZID=America/Detroit:20260627T220000
DTEND;TZID=America/Detroit:20260627T220000
DTSTAMP:20260424T172753
CREATED:20260114T205112Z
LAST-MODIFIED:20260402T154719Z
UID:10000019-1782597600-1782597600@mackinawcity.com
SUMMARY:Saturday Night Fireworks
DESCRIPTION:Celebrate summer with our weekly spectacular display! Beginning at 10pm every Saturday\, Memorial Day weekend through Labor Day weekend (weather permitting).
URL:https://mackinawcity.com/event/saturday-night-fireworks/2026-06-27/
LOCATION:Conkling Heritage Park\, 335 S. Huron St.\, Mackinaw City\, MI\, 49701\, United States
CATEGORIES:Area Event
ATTACH;FMTTYPE=image/webp:https://mackinawcity.com/wp-content/uploads/483512066_1055472719958308_4401846349626120440_n.webp
END:VEVENT
BEGIN:VEVENT
DTSTART;TZID=America/Detroit:20260711T220000
DTEND;TZID=America/Detroit:20260711T220000
DTSTAMP:20260424T172753
CREATED:20260114T205112Z
LAST-MODIFIED:20260402T154719Z
UID:10000021-1783807200-1783807200@mackinawcity.com
SUMMARY:Saturday Night Fireworks
DESCRIPTION:Celebrate summer with our weekly spectacular display! Beginning at 10pm every Saturday\, Memorial Day weekend through Labor Day weekend (weather permitting).
URL:https://mackinawcity.com/event/saturday-night-fireworks/2026-07-11/
LOCATION:Conkling Heritage Park\, 335 S. Huron St.\, Mackinaw City\, MI\, 49701\, United States
CATEGORIES:Area Event
ATTACH;FMTTYPE=image/webp:https://mackinawcity.com/wp-content/uploads/483512066_1055472719958308_4401846349626120440_n.webp
END:VEVENT
BEGIN:VEVENT
DTSTART;TZID=America/Detroit:20260718T220000
DTEND;TZID=America/Detroit:20260718T220000
DTSTAMP:20260424T172753
CREATED:20260114T205112Z
LAST-MODIFIED:20260402T154719Z
UID:10000022-1784412000-1784412000@mackinawcity.com
SUMMARY:Saturday Night Fireworks
DESCRIPTION:Celebrate summer with our weekly spectacular display! Beginning at 10pm every Saturday\, Memorial Day weekend through Labor Day weekend (weather permitting).
URL:https://mackinawcity.com/event/saturday-night-fireworks/2026-07-18/
LOCATION:Conkling Heritage Park\, 335 S. Huron St.\, Mackinaw City\, MI\, 49701\, United States
CATEGORIES:Area Event
ATTACH;FMTTYPE=image/webp:https://mackinawcity.com/wp-content/uploads/483512066_1055472719958308_4401846349626120440_n.webp
END:VEVENT
BEGIN:VEVENT
DTSTART;TZID=America/Detroit:20260725T220000
DTEND;TZID=America/Detroit:20260725T220000
DTSTAMP:20260424T172753
CREATED:20260114T205112Z
LAST-MODIFIED:20260402T154719Z
UID:10000023-1785016800-1785016800@mackinawcity.com
SUMMARY:Saturday Night Fireworks
DESCRIPTION:Celebrate summer with our weekly spectacular display! Beginning at 10pm every Saturday\, Memorial Day weekend through Labor Day weekend (weather permitting).
URL:https://mackinawcity.com/event/saturday-night-fireworks/2026-07-25/
LOCATION:Conkling Heritage Park\, 335 S. Huron St.\, Mackinaw City\, MI\, 49701\, United States
CATEGORIES:Area Event
ATTACH;FMTTYPE=image/webp:https://mackinawcity.com/wp-content/uploads/483512066_1055472719958308_4401846349626120440_n.webp
END:VEVENT
BEGIN:VEVENT
DTSTART;TZID=America/Detroit:20260801T220000
DTEND;TZID=America/Detroit:20260801T220000
DTSTAMP:20260424T172753
CREATED:20260114T205112Z
LAST-MODIFIED:20260402T154719Z
UID:10000024-1785621600-1785621600@mackinawcity.com
SUMMARY:Saturday Night Fireworks
DESCRIPTION:Celebrate summer with our weekly spectacular display! Beginning at 10pm every Saturday\, Memorial Day weekend through Labor Day weekend (weather permitting).
URL:https://mackinawcity.com/event/saturday-night-fireworks/2026-08-01/
LOCATION:Conkling Heritage Park\, 335 S. Huron St.\, Mackinaw City\, MI\, 49701\, United States
CATEGORIES:Area Event
ATTACH;FMTTYPE=image/webp:https://mackinawcity.com/wp-content/uploads/483512066_1055472719958308_4401846349626120440_n.webp
END:VEVENT
BEGIN:VEVENT
DTSTART;TZID=America/Detroit:20260808T220000
DTEND;TZID=America/Detroit:20260808T220000
DTSTAMP:20260424T172753
CREATED:20260114T205112Z
LAST-MODIFIED:20260402T154719Z
UID:10000025-1786226400-1786226400@mackinawcity.com
SUMMARY:Saturday Night Fireworks
DESCRIPTION:Celebrate summer with our weekly spectacular display! Beginning at 10pm every Saturday\, Memorial Day weekend through Labor Day weekend (weather permitting).
URL:https://mackinawcity.com/event/saturday-night-fireworks/2026-08-08/
LOCATION:Conkling Heritage Park\, 335 S. Huron St.\, Mackinaw City\, MI\, 49701\, United States
CATEGORIES:Area Event
ATTACH;FMTTYPE=image/webp:https://mackinawcity.com/wp-content/uploads/483512066_1055472719958308_4401846349626120440_n.webp
END:VEVENT
BEGIN:VEVENT
DTSTART;TZID=America/Detroit:20260815T220000
DTEND;TZID=America/Detroit:20260815T220000
DTSTAMP:20260424T172753
CREATED:20260114T205112Z
LAST-MODIFIED:20260402T154719Z
UID:10000026-1786831200-1786831200@mackinawcity.com
SUMMARY:Saturday Night Fireworks
DESCRIPTION:Celebrate summer with our weekly spectacular display! Beginning at 10pm every Saturday\, Memorial Day weekend through Labor Day weekend (weather permitting).
URL:https://mackinawcity.com/event/saturday-night-fireworks/2026-08-15/
LOCATION:Conkling Heritage Park\, 335 S. Huron St.\, Mackinaw City\, MI\, 49701\, United States
CATEGORIES:Area Event
ATTACH;FMTTYPE=image/webp:https://mackinawcity.com/wp-content/uploads/483512066_1055472719958308_4401846349626120440_n.webp
END:VEVENT
BEGIN:VEVENT
DTSTART;TZID=America/Detroit:20260822T220000
DTEND;TZID=America/Detroit:20260822T220000
DTSTAMP:20260424T172754
CREATED:20260114T205112Z
LAST-MODIFIED:20260402T154719Z
UID:10000027-1787436000-1787436000@mackinawcity.com
SUMMARY:Saturday Night Fireworks
DESCRIPTION:Celebrate summer with our weekly spectacular display! Beginning at 10pm every Saturday\, Memorial Day weekend through Labor Day weekend (weather permitting).
URL:https://mackinawcity.com/event/saturday-night-fireworks/2026-08-22/
LOCATION:Conkling Heritage Park\, 335 S. Huron St.\, Mackinaw City\, MI\, 49701\, United States
CATEGORIES:Area Event
ATTACH;FMTTYPE=image/webp:https://mackinawcity.com/wp-content/uploads/483512066_1055472719958308_4401846349626120440_n.webp
END:VEVENT
BEGIN:VEVENT
DTSTART;TZID=America/Detroit:20260829T220000
DTEND;TZID=America/Detroit:20260829T220000
DTSTAMP:20260424T172754
CREATED:20260114T205112Z
LAST-MODIFIED:20260402T154719Z
UID:10000028-1788040800-1788040800@mackinawcity.com
SUMMARY:Saturday Night Fireworks
DESCRIPTION:Celebrate summer with our weekly spectacular display! Beginning at 10pm every Saturday\, Memorial Day weekend through Labor Day weekend (weather permitting).
URL:https://mackinawcity.com/event/saturday-night-fireworks/2026-08-29/
LOCATION:Conkling Heritage Park\, 335 S. Huron St.\, Mackinaw City\, MI\, 49701\, United States
CATEGORIES:Area Event
ATTACH;FMTTYPE=image/webp:https://mackinawcity.com/wp-content/uploads/483512066_1055472719958308_4401846349626120440_n.webp
END:VEVENT
BEGIN:VEVENT
DTSTART;TZID=America/Detroit:20260905T220000
DTEND;TZID=America/Detroit:20260905T220000
DTSTAMP:20260424T172754
CREATED:20260114T205112Z
LAST-MODIFIED:20260402T154719Z
UID:10000029-1788645600-1788645600@mackinawcity.com
SUMMARY:Saturday Night Fireworks
DESCRIPTION:Celebrate summer with our weekly spectacular display! Beginning at 10pm every Saturday\, Memorial Day weekend through Labor Day weekend (weather permitting).
URL:https://mackinawcity.com/event/saturday-night-fireworks/2026-09-05/
LOCATION:Conkling Heritage Park\, 335 S. Huron St.\, Mackinaw City\, MI\, 49701\, United States
CATEGORIES:Area Event
ATTACH;FMTTYPE=image/webp:https://mackinawcity.com/wp-content/uploads/483512066_1055472719958308_4401846349626120440_n.webp
END:VEVENT
END:VCALENDAR