BEGIN:VCALENDAR
VERSION:2.0
PRODID:-//Mackinaw Area Visitors Bureau - ECPv6.15.20//NONSGML v1.0//EN
CALSCALE:GREGORIAN
METHOD:PUBLISH
X-WR-CALNAME:Mackinaw Area Visitors Bureau
X-ORIGINAL-URL:https://mackinawcity.com
X-WR-CALDESC:Events for Mackinaw Area Visitors Bureau
REFRESH-INTERVAL;VALUE=DURATION:PT1H
X-Robots-Tag:noindex
X-PUBLISHED-TTL:PT1H
BEGIN:VTIMEZONE
TZID:America/Detroit
BEGIN:DAYLIGHT
TZOFFSETFROM:-0500
TZOFFSETTO:-0400
TZNAME:EDT
DTSTART:20250309T070000
END:DAYLIGHT
BEGIN:STANDARD
TZOFFSETFROM:-0400
TZOFFSETTO:-0500
TZNAME:EST
DTSTART:20251102T060000
END:STANDARD
BEGIN:DAYLIGHT
TZOFFSETFROM:-0500
TZOFFSETTO:-0400
TZNAME:EDT
DTSTART:20260308T070000
END:DAYLIGHT
BEGIN:STANDARD
TZOFFSETFROM:-0400
TZOFFSETTO:-0500
TZNAME:EST
DTSTART:20261101T060000
END:STANDARD
BEGIN:DAYLIGHT
TZOFFSETFROM:-0500
TZOFFSETTO:-0400
TZNAME:EDT
DTSTART:20270314T070000
END:DAYLIGHT
BEGIN:STANDARD
TZOFFSETFROM:-0400
TZOFFSETTO:-0500
TZNAME:EST
DTSTART:20271107T060000
END:STANDARD
END:VTIMEZONE
BEGIN:VEVENT
DTSTART;TZID=America/Detroit:20260523T150000
DTEND;TZID=America/Detroit:20260523T160000
DTSTAMP:20260424T174215
CREATED:20260401T194338Z
LAST-MODIFIED:20260403T151917Z
UID:10000031-1779548400-1779552000@mackinawcity.com
SUMMARY:Fort Michilimackinac Historical Reenactment Pageant
DESCRIPTION:The longest-running free Memorial Day historical program in the United States unfolds over three captivating days\, featuring more than 400 dedicated cast members who bring history vividly to life. This immersive pageant reenacts the dramatic 1763 Battle of Fort Michilimackinac\, where French\, British\, and Native American forces clashed. Participants don authentic period costumes\, offering an engaging glimpse into the daily lives and customs of 1760s residents. A standout event of the weekend is the Memorial Day parade\, a vibrant procession showcasing over 100 bands\, performances\, and floats\, creating a powerful celebration of heritage and remembrance.
URL:https://mackinawcity.com/event/fort-michilimackinac-historical-reenactment-pageant-2/
LOCATION:312 South Huron Avenue\, Mackinaw City\, Michigan 49701\, United States
ATTACH;FMTTYPE=image/webp:https://mackinawcity.com/wp-content/uploads/reenactment.webp
END:VEVENT
BEGIN:VEVENT
DTSTART;TZID=America/Detroit:20260524T140000
DTEND;TZID=America/Detroit:20260524T150000
DTSTAMP:20260424T174215
CREATED:20260403T152045Z
LAST-MODIFIED:20260403T152047Z
UID:10000032-1779631200-1779634800@mackinawcity.com
SUMMARY:Fort Michilimackinac Historical Reenactment Pageant
DESCRIPTION:The longest-running free Memorial Day historical program in the United States unfolds over three captivating days\, featuring more than 400 dedicated cast members who bring history vividly to life. This immersive pageant reenacts the dramatic 1763 Battle of Fort Michilimackinac\, where French\, British\, and Native American forces clashed. Participants don authentic period costumes\, offering an engaging glimpse into the daily lives and customs of 1760s residents. A standout event of the weekend is the Memorial Day parade\, a vibrant procession showcasing over 100 bands\, performances\, and floats\, creating a powerful celebration of heritage and remembrance.
URL:https://mackinawcity.com/event/fort-michilimackinac-historical-reenactment-pageant-3/
LOCATION:312 South Huron Avenue\, Mackinaw City\, Michigan 49701\, United States
ATTACH;FMTTYPE=image/webp:https://mackinawcity.com/wp-content/uploads/memorial-day.webp
END:VEVENT
BEGIN:VEVENT
DTSTART;TZID=America/Detroit:20260525T140000
DTEND;TZID=America/Detroit:20260525T150000
DTSTAMP:20260424T174215
CREATED:20260403T152154Z
LAST-MODIFIED:20260403T154832Z
UID:10000033-1779717600-1779721200@mackinawcity.com
SUMMARY:Fort Michilimackinac Historical Reenactment Pageant
DESCRIPTION:The longest-running free Memorial Day historical program in the United States unfolds over three captivating days\, featuring more than 400 dedicated cast members who bring history vividly to life. This immersive pageant reenacts the dramatic 1763 Battle of Fort Michilimackinac\, where French\, British\, and Native American forces clashed. Participants don authentic period costumes\, offering an engaging glimpse into the daily lives and customs of 1760s residents. A standout event of the weekend is the Memorial Day parade\, a vibrant procession showcasing over 100 bands\, performances\, and floats\, creating a powerful celebration of heritage and remembrance.
URL:https://mackinawcity.com/event/fort-michilimackinac-historical-reenactment-pageant-4/
LOCATION:312 South Huron Avenue\, Mackinaw City\, Michigan 49701\, United States
ATTACH;FMTTYPE=image/webp:https://mackinawcity.com/wp-content/uploads/fort-scaled-1.webp
END:VEVENT
END:VCALENDAR